BEGIN:VCALENDAR
VERSION:2.0
PRODID:-//Arco Forum - ECPv6.15.11//NONSGML v1.0//EN
CALSCALE:GREGORIAN
METHOD:PUBLISH
X-ORIGINAL-URL:http://arcoforum.es
X-WR-CALDESC:Events for Arco Forum
REFRESH-INTERVAL;VALUE=DURATION:PT1H
X-Robots-Tag:noindex
X-PUBLISHED-TTL:PT1H
BEGIN:VTIMEZONE
TZID:UTC
BEGIN:STANDARD
TZOFFSETFROM:+0000
TZOFFSETTO:+0000
TZNAME:UTC
DTSTART:20190101T000000
END:STANDARD
END:VTIMEZONE
BEGIN:VEVENT
DTSTART;VALUE=DATE:20210626
DTEND;VALUE=DATE:20210628
DTSTAMP:20260422T102633
CREATED:20210625T184105Z
LAST-MODIFIED:20220123T110545Z
UID:18194-1624665600-1624838399@arcoforum.es
SUMMARY:Scriptural Reasoning Meetings: Peace Building (Brussels)
DESCRIPTION:Dear friends\, \nTomorrow\, Saturday 26 of June at 13:30 hrs\, Arco Forum will organise the twenty-third session of the Scriptural Reasoning Meetings under the title “Peace Making”\, in the frame of the Youth Creative CommUnity campaignof the European CommUnity Project. This session will take place in a very exciting context: the CommUnity Summer Days Festival in Brussels\, a meeting place for diverse cultures to promote intercultural dialogue\, diversity and coexistence in harmony! \nScriptural Reasoning is a novel concept developed by the Cambridge Interfaith Programme at the Cambridge University that helps address different current issues and their connections with the sacred Scriptures | Presentation of the Scriptural Reasoning activity. \nDuring the course of the activity the participants will enjoy an assortment of Spanish desserts. \nText. Click here for reading the sacred texts that will be studied during the session. \nLimited capacity. To participate it is essential to fill out this form and receive a confirmation email. \nGuidelines: It is important that all the participants read the document “Guidelines for all participants” before the event. \nAnd on Sunday\, 27 of June at 19:15 hrs at the stage of the festival\, we will talk about the Scriptural Reasoning Meetings and present a summary of all the activities that we have carried out over the last few months in the framework of the Youth Creative CommUnity campaign! \nArco Forum will participate in the Festival with the following activities: \n1. Saturday 06.26.2021\, 13:30 hrs: Scriptural Reasoning session (subject: “Peace Making”). \n2. Saturday 26.06.2021\, 15:00 hrs: Opening concert by JOIRE (Joven Ensemble Interreligioso Español / Spanish Youth Interfaith Ensemble). \n3. Sunday 06.27.2021\, 19:15 hrs: Presentation of the initiative “Scriptural Reasoning Meetings”\, created from the Cambridge Interfaith Programme. \n4. Sunday 06.27.2021\, 19:45 hrs: Closing concert of the festival. The weekend will conclude with an impressive choral performance from Spain by JOIRE again. \n \nInformation about the past and upcoming sessions\nOver the past and next few months\, we are organising the following sessions\, the topics of which you can see below\, by creating stable groups that meet once a month. Anyone interested in participating\, as well as organisations that want to collaborate to organise the groups\, are welcome! \nThe topics of the sessions are as follows\, with the possibility of incorporating new topics of interest to the participants: \n\nPeace Making\nEnvironmental issues\nReconciliation\nRiots and rebellion\nLeadership\nNon-violent responses to haters\nThe Cosmos and Creation\nRefugees\nFasting\n\n \nCommUnity Project\nThis activity is included in the CommUnity project\, which is co-financed by the European Commission. 11 public and private institutions from 7 EU countries participate in this project. The CommUnity project aims to address issues such as marginalisation\, inequality\, discrimination and denial of rights and create new opportunities to promote peace and shared values ​​through artistic and cultural expression. By giving a voice to young people who feel marginalised or treated unfairly\, we can build powerful communities with a greater sense of belonging\, well-being and self-esteem. \nYouth Creative CommUnity Campaign\nYouth Creative CommUnity aims to engage with young people through the lens of arts and creativity. To that end\, within different Youth Clubs\, small artistic groups are established and artistic activities are being organised. The Youth Creative Clubs are guided by artists and youth workers. \nYoung people are encouraged to find creative ways to express themselves in various forms\, such as music\, painting\, digital animation\, graffiti or photography. Moreover\, the participants will have the chance to present their works in a two-day Festival. The topic of the International Youth Creative Festival is “Peaceful Together” and it aims to promote peace through artistic expression. \nVideo summary of the session "Peace Making" | Scriptural Reasoning
URL:http://arcoforum.es/event/scriptural-reasoning-meetings-peace-building-brussels
CATEGORIES:Conciertos,Festival,Jornada Interreligiosa,Scriptural Reasoning
END:VEVENT
BEGIN:VEVENT
DTSTART;TZID=UTC:20201118T200000
DTEND;TZID=UTC:20201118T211500
DTSTAMP:20260422T102633
CREATED:20201115T235749Z
LAST-MODIFIED:20201117T192957Z
UID:17912-1605729600-1605734100@arcoforum.es
SUMMARY:Encuentro Interreligioso ‘Fratelli tutti’ | Todos hermanos en un mundo de divisiones
DESCRIPTION:Encuentro Interreligioso ‘Fratelli tutti’\nTodos hermanos en un mundo de divisiones \nCon motivo de la publicación de la nueva encíclica del Papa Francisco\, ‘Fratelli tutti’\, desde la Asociación Amistad y Encuentro Interreligioso (AAEI)\, en colaboración con Arco Forum y muchas otras entidades\, se ha decidido celebrar un encuentro fraterno para el miércoles 18 de noviembre en el que representantes de distintas religiones presentes en nuestro país puedan expresar sus opiniones y compartir sus sentimientos en torno a este documento. (Resumen de la encíclica “Fratelli tutti”) \nDebido a la situación provocada por la pandemia de coronavirus y a las restricciones que de ella derivan\, el encuentro se llevará a cabo vía online y se transmitirá en directo por las cuentas de la AAEI en Facebook y Twitter\, y el Canal de Youtube de Arco Forum. Comenzará a las 20.00h y terminará a las 21.15h. (Cartel de la actividad)\n \nNota: Durante las intervenciones\, quienes sigan el evento online podrán hacer sus aportaciones en los apartados de chat y comentarios. \nModera:\nProf. Miguel García-Baró\,  Presidente de AAEI. \nRepresentan las distintas religiones/confesiones: \n\nMohamed Ajana\, secretario de la Comisión Islámica de España.\nBracha B. Uziel-Calderón\, rabbanit en la Comunidad judía de Madrid y profesora de la Escuela Hilel en Madrid.\nJuan Sánchez\, miembro de la Iglesia Evangélica Española y profesor en la Facultad de Teología SEUT de Madrid.\nSwami Rameshwarananda Giri\, monje hindú\, Presidente de la Fundación Phi\, miembro de la Elijah Board of World Religious Leaders\nVen. Tenzin Choky (Paloma Alba)\, monja y maestra budista\, miembro de Transcendence – Foro Interreligioso Internacional.\n\n\nClausura del Encuentro:\nRafael Vázquez\, Secretario de la Subcomisión Episcopal de Relaciones Interconfesionales y Diálogo interreligioso de la CEE. \n  \n\nOrganiza: Asociación Amistad y Encuentro Interreligioso (AAEI). \nColaboran: Iglesia Evangélica Española\, Comisión Islámica de España\, Subcomisión de Relaciones Interconfesionales y Diálogo Interreligioso de la CEE\, Comunidad Judía de Madrid\, Instituto de las Misioneras de la Unidad\, Arco Forum\, Foro Transcendence\, Fundación Phi \nApoyan: Proyecto Repara\, Unidad Pastoral de San Blas\, Proyecto CommUnity. \nHashtags: #FratelliTutti | #HermanosTodos | #CulturaDelEncuentro | #Fraternidad | #AmistadSocial #EncuentroInterreligioso | #ArmoníaInterconfesional | #DiálogoInterreligioso
URL:http://arcoforum.es/event/encuentro-interreligioso-fratelli-tutti
CATEGORIES:Jornada Interreligiosa
ATTACH;FMTTYPE=image/png:http://arcoforum.es/wp-content/uploads/2020/11/Facebook-Title-Page-Cover-Encuentro-Fratelli-Tutti-18.11.2020-e1605637366902.png
ORGANIZER;CN="AAEI":MAILTO:asociacionamistadei@gmail.com
END:VEVENT
END:VCALENDAR