BEGIN:VCALENDAR
VERSION:2.0
PRODID:-//Arco Forum - ECPv6.15.11//NONSGML v1.0//EN
CALSCALE:GREGORIAN
METHOD:PUBLISH
X-ORIGINAL-URL:http://arcoforum.es
X-WR-CALDESC:Events for Arco Forum
REFRESH-INTERVAL;VALUE=DURATION:PT1H
X-Robots-Tag:noindex
X-PUBLISHED-TTL:PT1H
BEGIN:VTIMEZONE
TZID:UTC
BEGIN:STANDARD
TZOFFSETFROM:+0000
TZOFFSETTO:+0000
TZNAME:UTC
DTSTART:20150101T000000
END:STANDARD
END:VTIMEZONE
BEGIN:VEVENT
DTSTART;TZID=UTC:20210308T190000
DTEND;TZID=UTC:20210308T203000
DTSTAMP:20260421T163324
CREATED:20210303T225502Z
LAST-MODIFIED:20210303T225745Z
UID:18105-1615230000-1615235400@arcoforum.es
SUMMARY:Segundo Encuentro Women´s CommUnity Online con Dña. Maysoun Douas
DESCRIPTION:Queridas amigas\, \nEl lunes 8 de marzo a las 19:00 hrs\, realizaremos el segundo encuentro de la Campaña Women´s CommUnity que es parte del proyecto de la Comisión Europea CommUnity. Este encuentro académico intercultural coincidirá con el Día Internacional de la Mujer.  \nPara esta segunda sesión contaremos con una nueva invitada: Maysoun Douas\, Presidenta y Fundadora de la Fundación Tamkeen. Ella hablará sobre el tema “Ámbito profesional y familiar: papel de la mujer musulmana en el emprendimiento\, la economía\, la ciencia y la innovación” y después estará abierta a responder vuestras preguntas. \nAforo limitado. Para participar es imprescindible rellenar este formulario. \nDesarrollo de la actividad: \n19:00   Presentación de la actividad por parte de Arco Forum\n19:15   Inicio de la ponencia – Maysoun Douas\n19:50   Sesión de preguntas y reflexiones\n20:15   Fin de la actividad \nMaysoun Douas  \nMaysoun Dous es licenciada y doctora en Física por la UAM con 7 años de experiencia en investigación y docencia. Sus méritos académicos le han supuesto considerables publicaciones en revistas científicas y comunicaciones en congresos nacionales e internacionales. \nEs experta en innovación y co-fundadora de Excellenting\, algoritmo de emparejamiento de oferta y demanda tecnológica mediante mapeo de innovaciones. Es concejala del Ayuntamiento de Madrid en emprendimiento\, innovación\, economía y ciencia. Ha trabajado con entidades como la Comisión Europea y The Center for Advancing Innovation. Ha sido ecosystem builder de La Nave y Al Sharq Forum\, y es Presidenta y Fundadora de Tamkeen Online\, apoyando la formación digital para la independencia de mujeres vulnerables. \nMaysoun Douas ha concedido varias becas complementarias de manutención a mujeres para asistir a congresos y estancias de investigación\, con el fin de que puedan progresar. \nLos últimos años ha querido poner al servicio de la sociedad su experiencia desde el sector público\, conectando a agentes económicos relevantes para hacer de La Nave un ecosistema de innovación fuerte en Madrid. \n  \n \n  \nProyecto CommUnity\nEsta actividad se engloba dentro del proyecto CommUnity co-financiado por la Comisión Europea en el cual participan 11 instituciones pública y privadas de 7 países comunitarios. El proyecto CommUnity tiene como objetivo abordar factores de impulso como la marginación\, la desigualdad\, la discriminación y la negación de derechos y crear nuevas oportunidades para promover la paz y los valores compartidos a través de la expresión artística y cultural. Al dar voz a los jóvenes que se sienten marginados o tratados injustamente\, podemos construir comunidades poderosas con un mayor sentido de pertenencia\, bienestar y autoestima. \nCampaña Women´s CommUnity\nLos objetivos de la Campaña Women´s CommUnity incluyen el desarrollo de la cohesión social y el sentimiento de inclusión mediante el contacto con actores informales; Involucrar a madres mediante diálogo y eventos socio-culturales\, y desarrollar el arte del diálogo y guiar a madres y mujeres hacia una pacífica y democrática expresión de su identidad y creencias.
URL:http://arcoforum.es/event/segundo-encuentro-womens-community-online-con-maysoun-douas
CATEGORIES:Conferencias
ATTACH;FMTTYPE=image/png:http://arcoforum.es/wp-content/uploads/2021/03/Twitter-Header-Womens-CommUnity_MaysounDouas_08.03.2021.png
END:VEVENT
BEGIN:VEVENT
DTSTART;TZID=UTC:20210223T073000
DTEND;TZID=UTC:20210223T210000
DTSTAMP:20260421T163324
CREATED:20210221T231402Z
LAST-MODIFIED:20210221T231507Z
UID:18061-1614065400-1614114000@arcoforum.es
SUMMARY:Primer Encuentro Women´s CommUnity Online con Dña. Fátima Ahmed
DESCRIPTION:Queridas amigas\, \nEl martes\, 23 de febrero a las 19:30 hrs\, se lanzará una serie de actividades dentro de la Campaña Women´s CommUnity que es parte del proyecto europeo CommUnity. Ese día se celebrará la primera de estas actividades\, que consistirá en un encuentro académico intercultural. \nPara esta primera sesión contaremos con una invitada muy especial: Fàtima Ahmed\, Presidenta y Co-Fundadora de la Associació Intercultural Diàlegs de Donade Barcelona. Ella hablará sobre el tema “Las Asociaciones de Mujeres Migrantes como agentes clave que promueven la interconexión” y después estará abierta a responder vuestras preguntas. \nAforo limitado. Para participar es imprescindible rellenar este formulario. \nDesarrollo de la actividad: \n19:30        Bienvenida por parte de ARCO FORUM\n19:40      Bienvenida por parte de la ponente invitada\, Fàtima Ahmed\, Presidenta y Co-Fundadora de la Associació Intercultural Diàlegs de Dona\n19:45         Charla de Fàtima Ahmed\n20:15         Preguntas de las participantes y charla-coloquio\n20:35         Aportaciones adicionales\n20:45         Fin de la actividad \nFàtima Ahmed \nFàtima Ahmed\, nacida en Tetuán (Marruecos) en 1967\, se diplomó en Administración de Empresas en Ceuta. Trabajó en el sector empresarial hasta el año 1995\, cuando se trasladó a Barcelona\, ciudad en la que vive desde entonces. \nHa sido un elemento muy activo en el tejido asociativo como Coordinadora del Servicio de Mediación Intercultural y responsable del área de Relaciones Institucionales (1996-2012). \nActualmente es la Presidenta y Co-Fundadora de la Associació Intercultural Diàlegs de Dona (2013)\, como un espacio de acogida\, lengua y socialización de mujeres inmigrantes\, con la voluntad de contribuir\, a través del diálogo intercultural en clave femenina\, a la cohesión social. \nFàtima Ahmed cuenta con una larga trayectoria personal y profesional de promoción de oportunidades para las mujeres a través de entidades como es Diàlegs de Dona. En este sentido\, en marzo de 2015\, fue ganadora del Premio Aspasia en defensa de la equidad de género concedido por la Red de Mujeres Directivas y Profesionales de la Acción Social (DDiPAS) y el Observatorio del Tercer Sector\, por su compromiso con el empoderamiento de las mujeres inmigrantes. \n  \n \n  \nProyecto CommUnity\nEsta actividad se engloba dentro del proyecto CommUnity co-financiado por la Comisión Europea en el cual participan 11 instituciones pública y privadas de 7 países comunitarios. El proyecto CommUnity tiene como objetivo abordar factores de impulso como la marginación\, la desigualdad\, la discriminación y la negación de derechos y crear nuevas oportunidades para promover la paz y los valores compartidos a través de la expresión artística y cultural. Al dar voz a los jóvenes que se sienten marginados o tratados injustamente\, podemos construir comunidades poderosas con un mayor sentido de pertenencia\, bienestar y autoestima. \nCampaña Women´s CommUnity\nLos objetivos de la Campaña Women´s CommUnity incluyen el desarrollo de la cohesión social y el sentimiento de inclusión mediante el contacto con actores informales; Involucrar a madres mediante diálogo y eventos socio-culturales\, y desarrollar el arte del diálogo y guiar a madres y mujeres hacia una pacífica y democrática expresión de su identidad y creencias.
URL:http://arcoforum.es/event/primer-encuentro-womens-community-online-con-dna-fatima-ahmed
CATEGORIES:Conferencias
END:VEVENT
BEGIN:VEVENT
DTSTART;TZID=UTC:20181126T193000
DTEND;TZID=UTC:20181126T213000
DTSTAMP:20260421T163324
CREATED:20181120T162620Z
LAST-MODIFIED:20181120T163058Z
UID:17708-1543260600-1543267800@arcoforum.es
SUMMARY:Conferencia de D. Ercan Karakoyun sobre el Movimiento Gulen (Hizmet)
DESCRIPTION:Nos complace invitarle a la conferencia de un invitado especial\, D. Ercan Karakoyun\, autor del libro “Die Gülen-Bewegung – Was sie ist\, was sie will” (El Movimiento Gulen – Qué es\, qué quiere) (Herder\, 2017) quien nos acompañará durante unos días en Madrid. El autor hablará sobre los valores\, los principios\, las actividades educativas y de diálogo interconfesional\, y la interpretación del islam y la democracia de este movimiento social. Asimismo analizará los desafíos actuales a los que se está enfrentando el Movimiento Gulen que surgieron tras el fallido golpe de Estado de julio de 2016. \nEl acto se celebrará el próximo lunes\, 26 de noviembre a las 19:30 hrs en la sede de Arco Forum: Calle de Manuel Ferrero\, 13\, Planta 2\, 28036\, Madrid. Tras el acto se ofrecerá un aperitivo para seguir dialogando. Imprescindible confirmar la asistencia en ​info@arcoforum.es \nLa conferencia se realizará en alemán/inglés con traducción consecutiva al castellano. También pueden conseguirse ejemplares del libro arriba citado en el mismo evento. Disponemos de copias limitadas por lo que rogamos nos lo soliciten con antelación por correo electrónico. \nPonente: Ercan Karakoyun \nEs presidente de la Fundación Diálogo y Educación (Stiftung Dialog und Bildung) desde su creación en noviembre de 2013. Nació en Schwerte\, Alemania. Ex becario de la Fundación Friedrich Ebert\, completó sus estudios de Ordenación del Territorio en la Universidad de Dortmund con un enfoque en la sociología urbana. \nEs miembro fundador del Foro para el Diálogo Intercultural de Berlín y fue su Director General de 2008-2013. Pertenece a la Junta Directiva de House of One\, un templo judío-cristiano-musulmán  para la oración y enseñanza\, actualmente en construcción en Petriplatz\, Berlin. Es también parte del Consejo Asesor de la revista “Die Fontäne“\, columnista del portal dtj-online.de y de la revista The European y miembro del Consejo Alemán de Relaciones Exteriores y de la Sociedad Alemana de Sociología. \nLa Fundación Diálogo y Educación pretende crear un intercambio más eficaz de información entre los simpatizantes del Movimiento Gulen (también conocido como Movimiento Hizmet) y los valores subyacentes involucrados\, como una iniciativa de la sociedad civil en Alemania. Además sirve como un punto de contacto entre el ámbito político\, los medios de comunicación y el mundo científico.
URL:http://arcoforum.es/event/conferencia-ercan-karakoyun-sobre-el-movimiento-gulen-hizmet
LOCATION:Arco Forum\, Calle de Manuel Ferrero\, 13\, Planta 2ª\, Madrid\, 28036\, España
CATEGORIES:Conferencias
ATTACH;FMTTYPE=image/png:http://arcoforum.es/wp-content/uploads/2018/11/Conferencia-Ercan-Karakoyun-Movimiento-Gulen-Hizmet.png
END:VEVENT
BEGIN:VEVENT
DTSTART;TZID=UTC:20180724T200000
DTEND;TZID=UTC:20180724T220000
DTSTAMP:20260421T163324
CREATED:20180830T101631Z
LAST-MODIFIED:20180830T102648Z
UID:17572-1532462400-1532469600@arcoforum.es
SUMMARY:Charla-coloquio ”El Movimiento Hizmet (Gülen) antes y después del 15 de julio de 2016: retos y oportunidades”
DESCRIPTION:Tenemos el gusto de invitarle a la charla-coloquio ”El Movimiento Hizmet (Gülen) antes y después del 15 de julio de 2016: retos y oportunidades” que hemos organizado aprovechando la visita de la investigadora estadounidense Sophia Pandya a nuestro país. \nEl acto está organizado por Arco Forum y Casa Turca y se celebrará el próximomartes\, 24.07.2018 a las 20:00 hrs en la sede de Arco Forum: Calle de Manuel Ferrero\, 13\, Planta 2\, 28036\, Madrid. \nLa Dra. Pandya es profesora catedrática en el Departamento de Estudios Religiosos de la Universidad Estatal de California\, Long Beach. Está especializada en movimientos islámicos contemporáneos. Cuenta con una extensa trayectoria profesional y para nosotros es un honor recibirla. \nTras la charla se ofrecerá un piscolabis y té turco para seguir dialogando. Esperamos contar con su presencia. Imprescindible confirmar la asistencia en ​info@arcoforum.es \n  \n  \nBiografía detallada de la ponente: \nLa Dra. Sophia Pandya es catedrática en el Departamento de Estudios Religiosos de la Universidad Estatal de California en Long Beach. \nSe licenció en Estudios de Oriente Próximo y Árabe por la Universidad de California en Berkeley\, y obtuvo su Máster y Doctorado en Estudios Religiosos por la Universidad de California en Santa Barbara. \nSe especializa en mujeres e Islam\, y más ampliamente en movimientos contemporáneos dentro del Islam. \nLa Dra. Pandya es autora del libro publicado en el año 2012\, “Mujeres musulmanas y resurgimiento islámico: religión\, educación y política de identidad en Bahréin”\, sobre las mujeres de Bahrein y las formas en que la globalización y la educación moderna tuvieron un impacto en sus actividades religiosas. \nDespués de haber llevado a cabo investigaciones en Turquía en varias ocasiones\, es también co-editora del libro\, “El Movimiento Gülen Hizmet y sus Actividades Transnacionales: Casos de Estudio sobre Activismo Benéfico”. \nLa Dra. Pandya ha viajado a Etiopía tres veces como miembro del Instituto Estadounidense de Estudios Yemeníes\, para estudiar a yemeníes que viven en diáspora en Etiopía. Como resultado\, recientemente publicó “Yemenis y Muwalladin en Addis Abeba: Pureza de la sangre y las oportunidades de la hibridez”. Sus intereses también incluyen el cambio religioso en Yemen entre las generaciones de mujeres jóvenes y mayores\, y las formas en que gestionan discursos religiosos conflictivos.
URL:http://arcoforum.es/event/charla-coloquio-el-movimiento-hizmet-gulen-antes-y-despues-del-15-de-julio-de-2016-retos-y-oportunidades
LOCATION:Arco Forum\, Calle de Manuel Ferrero\, 13\, Planta 2ª\, Madrid\, 28036\, España
CATEGORIES:Conferencias
ATTACH;FMTTYPE=image/jpeg:http://arcoforum.es/wp-content/uploads/2018/08/Sophia-Pandya.jpg
ORGANIZER;CN="Casa Turca":MAILTO:info@casaturca.org
END:VEVENT
BEGIN:VEVENT
DTSTART;TZID=UTC:20160205T103000
DTEND;TZID=UTC:20160205T131500
DTSTAMP:20260421T163324
CREATED:20160128T121110Z
LAST-MODIFIED:20180830T101023Z
UID:454-1454668200-1454678100@arcoforum.es
SUMMARY:Conferencia "House of One":  tres religiones bajo un mismo techo
DESCRIPTION:Arco Forum y Casa Turca tienen el placer de invitarle a la jornada interreligiosa que organizan con motivo de la Semana Mundial de la Armonía Interconfesional\, en colaboración con la Universidad Pontificia Comillas\, el Foro Abraham\, la Asociación Amistad y Encuentro Interreligioso (AAEI) y la revista de pensamiento científico y espiritual Cascada. \n“House of One: Tres religiones bajo un mismo techo“ \n\nEn 2018 abrirá sus puertas en Berlín un innovador edificio que pretende favorecer el diálogo entre las tres religiones monoteístas; judíos\, cristianos y musulmanes se han unido para construir en un mismo espacio una sinagoga\, una iglesia y una mezquita. Será una casa de oración y de intercambio abierta a todos.\n\n\nLa conferencia pretende explorar cómo el espacio arquitectónico contribuye a transmitir la fe y a estimular la oración\, y conocer de primera mano el proyecto “House of One”. Contaremos con la presencia del rabino\, el pastor protestante y el imán que están promoviendo el templo de Berlín\, quienes explicarán qué puede aportar esa “casa común” a la fraternidad dentro de la diversidad. \n\n#ArmoníaInterconfesional\n#HouseOfOne\nTwitter:  /House_of_One_EN\nFacebook: HouseOfOneBerlin\nFECHA Y LUGAR:\n\nViernes 5 de febrero 2016\, 10:30 – 13:15 hrs\nUniversidad Pontificia de Comillas Madrid (C/ Alberto Aguilera\, 23) \n\nSala de Conferencias\, 1ª Planta     \n\n\n\nPROGRAMA: \n\n10:30-10:45 hrs – Palabras de Bienvenida\n\nIntervienen:\n\nDr. P. Julio L. Martínez SJ – Rector Magnífico de la Universidad Pontificia Comillas\nDr. Miguel García-Baró López – Presidente de AAEI y Director del Departamento de Filosofía\, Humanidades y Comunicación de la UPC\nDña. Victoria Martín de la Torre – Presidenta de Foro Abraham\nD. Temirkhon Temirzoda – Presidente de Arco Forum y Director de Programas Culturales de Casa Turca\n\n\n\n\n\n\n10:45-11:30 hrs – Conferencia de apertura: “El espacio de lo sagrado: Judaísmo\, Cristianismo e Islam”\n\nPonente:\n\nDra. Soledad García Morales\, Universidad Politécnica de Madrid\n\n\n\n\n\n\n\n11:30-12:30 hrs – Mesa Redonda: “El proyecto “House of One”:  un espacio común sin caer en el sincretismo”\n\nPonentes:\n\nRabino Andreas Nachama\nPastor Gregor Hohberg\nImam Kadir Sanci\n\n\nModerador:\n\nDr. Miguel García-Baró López\n\n\n\n\n\n\n12:30-13:00 hrs – Sesión de preguntas\n\n\n13:00-13:15 hrs – Clausura y fin del acto\n\n\nSe dispondrá de traducción simultánea del alemán al español y viceversa. \nPara más información:\nwww.arcoforum.es\ninfo@casaturca.org
URL:http://arcoforum.es/event/conferencia-house-of-one-tres-religiones-bajo-un-mismo-techo
LOCATION:Universidad Pontificia de Comillas\, C/ Alberto Aguilera\, 23. Sala de conferencias\, 1º Planta\, Madrid\, Madrid\, 28015\, España
CATEGORIES:Conferencias
ATTACH;FMTTYPE=image/jpeg:http://arcoforum.es/wp-content/uploads/2016/01/Portada-web-SMAI2.jpg
END:VEVENT
END:VCALENDAR