BEGIN:VCALENDAR
VERSION:2.0
PRODID:-//Arco Forum - ECPv6.15.11//NONSGML v1.0//EN
CALSCALE:GREGORIAN
METHOD:PUBLISH
X-ORIGINAL-URL:http://arcoforum.es
X-WR-CALDESC:Events for Arco Forum
REFRESH-INTERVAL;VALUE=DURATION:PT1H
X-Robots-Tag:noindex
X-PUBLISHED-TTL:PT1H
BEGIN:VTIMEZONE
TZID:UTC
BEGIN:STANDARD
TZOFFSETFROM:+0000
TZOFFSETTO:+0000
TZNAME:UTC
DTSTART:20200101T000000
END:STANDARD
END:VTIMEZONE
BEGIN:VEVENT
DTSTART;VALUE=DATE:20210626
DTEND;VALUE=DATE:20210628
DTSTAMP:20260419T213228
CREATED:20210625T184105Z
LAST-MODIFIED:20220123T110545Z
UID:18194-1624665600-1624838399@arcoforum.es
SUMMARY:Scriptural Reasoning Meetings: Peace Building (Brussels)
DESCRIPTION:Dear friends\, \nTomorrow\, Saturday 26 of June at 13:30 hrs\, Arco Forum will organise the twenty-third session of the Scriptural Reasoning Meetings under the title “Peace Making”\, in the frame of the Youth Creative CommUnity campaignof the European CommUnity Project. This session will take place in a very exciting context: the CommUnity Summer Days Festival in Brussels\, a meeting place for diverse cultures to promote intercultural dialogue\, diversity and coexistence in harmony! \nScriptural Reasoning is a novel concept developed by the Cambridge Interfaith Programme at the Cambridge University that helps address different current issues and their connections with the sacred Scriptures | Presentation of the Scriptural Reasoning activity. \nDuring the course of the activity the participants will enjoy an assortment of Spanish desserts. \nText. Click here for reading the sacred texts that will be studied during the session. \nLimited capacity. To participate it is essential to fill out this form and receive a confirmation email. \nGuidelines: It is important that all the participants read the document “Guidelines for all participants” before the event. \nAnd on Sunday\, 27 of June at 19:15 hrs at the stage of the festival\, we will talk about the Scriptural Reasoning Meetings and present a summary of all the activities that we have carried out over the last few months in the framework of the Youth Creative CommUnity campaign! \nArco Forum will participate in the Festival with the following activities: \n1. Saturday 06.26.2021\, 13:30 hrs: Scriptural Reasoning session (subject: “Peace Making”). \n2. Saturday 26.06.2021\, 15:00 hrs: Opening concert by JOIRE (Joven Ensemble Interreligioso Español / Spanish Youth Interfaith Ensemble). \n3. Sunday 06.27.2021\, 19:15 hrs: Presentation of the initiative “Scriptural Reasoning Meetings”\, created from the Cambridge Interfaith Programme. \n4. Sunday 06.27.2021\, 19:45 hrs: Closing concert of the festival. The weekend will conclude with an impressive choral performance from Spain by JOIRE again. \n \nInformation about the past and upcoming sessions\nOver the past and next few months\, we are organising the following sessions\, the topics of which you can see below\, by creating stable groups that meet once a month. Anyone interested in participating\, as well as organisations that want to collaborate to organise the groups\, are welcome! \nThe topics of the sessions are as follows\, with the possibility of incorporating new topics of interest to the participants: \n\nPeace Making\nEnvironmental issues\nReconciliation\nRiots and rebellion\nLeadership\nNon-violent responses to haters\nThe Cosmos and Creation\nRefugees\nFasting\n\n \nCommUnity Project\nThis activity is included in the CommUnity project\, which is co-financed by the European Commission. 11 public and private institutions from 7 EU countries participate in this project. The CommUnity project aims to address issues such as marginalisation\, inequality\, discrimination and denial of rights and create new opportunities to promote peace and shared values ​​through artistic and cultural expression. By giving a voice to young people who feel marginalised or treated unfairly\, we can build powerful communities with a greater sense of belonging\, well-being and self-esteem. \nYouth Creative CommUnity Campaign\nYouth Creative CommUnity aims to engage with young people through the lens of arts and creativity. To that end\, within different Youth Clubs\, small artistic groups are established and artistic activities are being organised. The Youth Creative Clubs are guided by artists and youth workers. \nYoung people are encouraged to find creative ways to express themselves in various forms\, such as music\, painting\, digital animation\, graffiti or photography. Moreover\, the participants will have the chance to present their works in a two-day Festival. The topic of the International Youth Creative Festival is “Peaceful Together” and it aims to promote peace through artistic expression. \nVideo summary of the session "Peace Making" | Scriptural Reasoning
URL:http://arcoforum.es/event/scriptural-reasoning-meetings-peace-building-brussels
CATEGORIES:Conciertos,Festival,Jornada Interreligiosa,Scriptural Reasoning
END:VEVENT
BEGIN:VEVENT
DTSTART;VALUE=DATE:20210626
DTEND;VALUE=DATE:20210628
DTSTAMP:20260419T213228
CREATED:20210624T175005Z
LAST-MODIFIED:20210624T175940Z
UID:18188-1624665600-1624838399@arcoforum.es
SUMMARY:Festival "CommUnity Summer Days" En Bruselas
DESCRIPTION:Queridos amigos y amigas\, \nArco Forum tiene el placer de dar a conocer el Festival CommUnity Summer Days\, un festival cultural\, creativo y artístico internacional que tendrá lugar los días sábado y domingo 26 y 27 de junio en Bruselas y en el que participaremos. El festival será un lugar de encuentro de diversas culturas para promover el diálogo intercultural\, la diversidad y la convivencia en armonía. \nDurante estos dos días estaremos allí disfrutando de exposiciones de graffitis\, fotógrafos y pintores. También se llevarán a cabo talleres donde los participantes tendrán la oportunidad de practicar la pintura sobre agua y hacer manualidades. Durante el día\, se podrá disfrutar de un buen Buffet Gastronómico Internacional\, que reúne platos de 7 países europeos diferentes. Al final del día\, en el escenario\, habrá muchas presentaciones en directo de bandas de Italia\, España\, Alemania y Francia\, DJs especiales\, rap urbano y artistas de música latina. Y entre toda esta música\, también se podrá cantar a todo pulmón en la carpa de karaoke. \nDurante el día también se proyectarán\, en la sala de cine\, películas con la inclusión social como temática de fondo. \nArco Forum participará en el Festival con las siguientes actividades: \n1. Sábado 26.06.2021\, 13:30 hrs: Sesión de Scriptural Reasoning (tema: “Peace Making”). \n2. Sábado 26.06.2021\, 15:00 hrs: Concierto de apertura a cargo de JOIRE(Joven Ensemble Interreligioso Español). \n3. Domingo 27.06.2021\, 19:15 hrs: Presentación de la actividad “Encuentros de Scriptural Reasoning”\, nacida a partir del Cambridge Interfaith Programme. \n4. Domingo 27.06.2021\, 19:45 hrs: Concierto de clausura del festival. El fin de semana concluirá con una impresionante actuación coral de España por parte\, nuevamente\, de JOIRE. \nInformación Prática \n¿Cuándo? 26/06 y 27/06 de 11:00 a 21:00 \n¿Dónde? Ecole des Étoiles\, Rue de la Grenouillette 2G\, 1130 Haren (Bruselas) \n¿Precio? 10€ (cupones de comida y bebida de 5€ incluidos) \n*Los niños menores de 12 años entran gratis. \nEste festival se realiza con el apoyo de la Comisión Europea. El programa de este inspirador festival de dos días se puede encontrar aquí. Durante el evento se respetarán las medidas sanitarias aplicables y se pondrán a disposición de los participantes productos EPI. \nPara cualquier consulta en relación al festival podéis escribir a  info@thecommunityproject.eu \n¡Agradecemos la difusión entre vuestros contactos de Bruselas y os invitamos a seguir nuestras noticias y transmisiones en directo a través de nuestras redes sociales! \n \nProyecto CommUnity\nEsta actividad se engloba dentro del proyecto CommUnity co-financiado por la Comisión Europea en el cual participan 11 instituciones pública y privadas de 7 países comunitarios. El proyecto CommUnity tiene como objetivo abordar factores de impulso como la marginación\, la desigualdad\, la discriminación y la negación de derechos y crear nuevas oportunidades para promover la paz y los valores compartidos a través de la expresión artística y cultural. Al dar voz a los jóvenes que se sienten marginados o tratados injustamente\, podemos construir comunidades poderosas con un mayor sentido de pertenencia\, bienestar y autoestima.
URL:http://arcoforum.es/event/festival-community-summer-days-en-bruselas
CATEGORIES:Conciertos,Festival,Scriptural Reasoning
ATTACH;FMTTYPE=image/png:http://arcoforum.es/wp-content/uploads/2021/06/Encabezado-Formulario-CommUnitySummerDays-BRU-27-28.06.2021-e1624557568558.png
END:VEVENT
BEGIN:VEVENT
DTSTART;TZID=UTC:20210314T100000
DTEND;TZID=UTC:20210314T190000
DTSTAMP:20260419T213228
CREATED:20210312T220456Z
LAST-MODIFIED:20210312T224140Z
UID:18114-1615716000-1615748400@arcoforum.es
SUMMARY:Convivencia-ensayo de JOIRE 🎧 🎼 y Scriptural Reasoning "Alabanza"
DESCRIPTION:Querid@s amig@s\, \nEste domingo\, 14 de marzo a partir de las 10:00 hrs el Centro Mariápolis Luminosa acoge la segunda jornada de convivencia de JOIRE (Joven Ensemble Interreligioso Español) organizada por Arco Forum que consta de dos interesantes actividades. \nAforo limitado. Para participar es imprescindible rellenar este formulario y recibir un correo de confirmación. \n\nA partir de las 10:00 hrs: una convivencia junto al Jóven Ensemble Interreligioso Español (JOIRE)  bajo la dirección artística de Julio Maroto\, durante la cual os invitamos a ensayar con ellos si sois músicos/cantantes amateurs/profesionales para conocer desde dentro este coro formado por jóvenes de diferentes tradiciones religiosas. La convivencia está organizada por Arco Forum en colaboración con la Casa Turca. Se ofrecerá un piscolabis y un almuerzo.\n\nJOIRE nació hace dos meses dentro de la campaña Harmony CommUnity\, que es parte del proyecto Europeo CommUnity. Se formó por la iniciativa de ARCO FORUM y con el objetivo de mejorar el diálogo interreligioso mediante la creación de un grupo de música que se reunirán para tocar juntos y compartir la pasión por la música sin fronteras de cultura\, religión o edad. \nA lo largo de este año\, jóvenes de distintas tradiciones religiosas se reunirán disfrutando de convivencias inolvidables para cantar juntos y prepararse para el Youth Creative Festival que tendrá lugar en Bruselas este verano\, representando nuestro país. Los interesados en formar parte de este ambicioso proyecto todavía pueden contactarnos enviando su CV a joire@arcoforum.es \n \n  \n2. A partir de las 17:00 hrs: la duodécima sesión de los Encuentros de Scriptural Reasoning (SR) dentro de la campaña Youth Creative CommUnity del mismo Proyecto Europeo.\n\nScriptural Reasoning (SR) es un concepto novedoso desarrollado por el Cambridge Interfaith Program de la Universidad Cambridge que ayuda a tratar diferentes temas de la actualidad y sus conexiones con las escrituras sagradas | Presentación de la actividad Scriptural Reasoning.\n\nTema y texto de estudio: El tema elegido para la duodécima sesión de esta actividad es “Alabanza“. Puede acceder al texto de estudio aquí.\n\nPautas: Es importante que todos los interesados lean el documento “Pautas para todos los participantes” antes del acto.\n  \nDesarrollo de la actividad \n10:00      Bienvenida de los músicos y cantantes por parte de ARCO FORUM y Julio Maroto\, director de JOIRE e inicio de Ensayo\n12:00       Descanso con piscolabis\n12:40       Ensayo\n14:00       Almuerzo ofrecido por Casa Turca\n15:00       Ensayo JOIRE\n17:00       Bienvenida de los participantes del duodécimo Scriptural Reasoning\, explicación de la dinámica de la actividad\, lectura de pautas\n17:10       Lectura de texto de la tradición cristiana y su comentario\n17:30       Lectura de texto de la tradición musulmana y su comentario\n17:50       Lectura de texto de la tradición judía y su comentario\n18:10       Resumen y aportaciones adicionales\n18:30       Fin de la actividad \n \nInformación sobre las próximas sesiones de Scriptural Reasoning \nA lo largo de los próximos meses\, organizaremos las siguientes sesiones\, cuyos temas a tratar podéis consultar a continuación. Queremos formar 4 grupos estables que se reunirán una vez al mes. Están bienvenidos todas y todos los interesados en participar como también las entidades que quieran colaborar para organizar los grupos. \nLos temas de las siguientes sesiones serán como sigue\, pudiendo incorporar nuevos temas de interés por parte de los participantes: \n\nConstrucción de la Paz\nTemas medioambientales\nReconciliación\nDisturbios y rebelión\nLiderazgo\nRespuestas no violentas a personas con actitudes de odio\nEl Cosmos y la Creación\nRefugiados\n\n \nProyecto CommUnity\nEsta actividad se engloba dentro del proyecto CommUnity co-financiado por la Comisión Europea en el cual participan 11 instituciones pública y privadas de 7 países comunitarios. El proyecto CommUnity tiene como objetivo abordar factores de impulso como la marginación\, la desigualdad\, la discriminación y la negación de derechos y crear nuevas oportunidades para promover la paz y los valores compartidos a través de la expresión artística y cultural. Al dar voz a los jóvenes que se sienten marginados o tratados injustamente\, podemos construir comunidades poderosas con un mayor sentido de pertenencia\, bienestar y autoestima. \nCampaña Harmony CommUnity\nEl objetivo principal de esta campaña es mejorar el diálogo intergeneracional\, intercultural e interreligioso mediante la creación de grupos de música que se reunirán para tocar juntos y compartir la pasión por la música sin fronteras de cultura\, religión o edad.\nLos objetivos de esta actividad son los siguientes:\n– Mejorar el diálogo intergeneracional\, intercultural e interreligioso;\n– Construir comunidades de personas que comparten su pasión por la música;\n– Mejorar la cohesión social y la inclusión a través de actividades musicales;\n– Fomentar la diversidad y la convivencia pacífica y armónica entre generaciones\, culturas y religiones;\n– Mejorar el sentimiento de pertenencia y disminuir el sentimiento de marginación de las personas que vienen de diferentes orígenes\, incluidas las comunidades desfavorecidas;\n– Guiar a las personas hacia una expresión pacífica de su identidad y creencias. \nCampaña Youth Creative CommUnity\nYouth Creative CommUnity trata de involucrar a los jóvenes a través de lentes artísticas y creativas. Para este fin\, a través de distintos Youth Creative Clubs\, pequeños grupos artísticos serán establecidos\, y se desarrollarán actividades artísticas y culturales. Los Youth Creative Clubs serán guiados por artistas y jóvenes trabajadores. Para poder preservar la dinámica de grupo y el “sentimiento de seguridad y confianza”\, las actividades serán de un máximo de 30 personas. Las personas jóvenes\, que busquen empoderar su identidad\, serán motivadas a encontrar varias formas creativas de expresarse. Mediante expresiones culturales y artísticas\, como la música\, la pintura\, talleres de artes visuales\, los jóvenes pueden desarrollar un sentimiento más fuerte de pertenencia. Además\, a los jóvenes se les propondrá la creación de algo relacionado con el tema “Pacíficamente Juntos”\, que ellos presentarán en el “Youth Creative Festival-Peaceful Together” (este festival internacional promueve la paz a través de las expresiones artísticas). Saber que hay una posibilidad de participar en un festival internacional servirá de motivación adicional para motivar a los jóvenes y que tomen parte en las actividades artísticas. \n \n 
URL:http://arcoforum.es/event/convivencia-ensayo-de-joire-scriptural-reasoning-alabanza
CATEGORIES:Conciertos,Scriptural Reasoning
ATTACH;FMTTYPE=image/png:http://arcoforum.es/wp-content/uploads/2021/03/Encabezado-Formulario-Convivencia-JOIRE12oSR-MAD-14.03.2021.png
END:VEVENT
BEGIN:VEVENT
DTSTART;TZID=UTC:20210221T170000
DTEND;TZID=UTC:20210221T193000
DTSTAMP:20260419T213228
CREATED:20210217T230200Z
LAST-MODIFIED:20210312T224914Z
UID:18053-1613926800-1613935800@arcoforum.es
SUMMARY:Concierto Debut de JOIRE 🎧 🎼 junto al 9º Scriptural Reasoning "Liderazgo"
DESCRIPTION:Apreciad@ amig@ \n¡Nace JOIRE! ¡Ven el domingo para disfrutar de su primer concierto! \nEste domingo 21 de febrero a las 17:00 hrs\, se lanzará el primer concierto del Jóven Ensemble Interreligioso Español (JOIRE)\, bajo la dirección artística de Julio Maroto\, dentro de la Campaña Harmony CommUnity del proyecto europeo CommUnity Project. El objetivo principal de esta campaña es mejorar el diálogo intergeneracional\, intercultural e interreligioso mediante la creación de grupos de música que se reunirán para tocar juntos y compartir la pasión por la música sin fronteras de cultura\, religión o edad. \nA lo largo de este año\, jóvenes de distintas tradiciones religiosas se reunirán disfrutando de convivencias inolvidables para cantar juntos y prepararse para el Youth Creative Festival que tendrá lugar en Bruselas este verano\, representando nuestro país. Los interesados en formar parte de este ambicioso proyecto todavía pueden contactarnos escribiéndo a joire@arcoforum.es \n \nTras el concierto\, a las 18:15 hrs\, te invitamos a tomar un café y un piscolabis con nosotros participando en la 9ª sesión de los Encuentros de Scriptural Reasoning\, que forma parte de la Campaña YouthCreative CommUnity del mismo proyecto europeo. \nScriptural Reading (SR) es un concepto novedoso desarrollado por el Cambridge Interfaith Program de la Universidad Cambridge que ayuda a tratar diferentes temas de la actualidad y sus conexiones con las escrituras sagradas | Presentación de la actividad Scriptural Reasoning. \n\nPautas: Es importante que todos los interesados lean el documento “Pautas para todos los participantes” antes del acto.\nTema y texto de estudio: “Liderazgo” (puede acceder aquí)\n\nEstos dos eventos que se organizan también en el marco de la Semana Mundial de la Armonía Interconfesional tendrán lugar en la Basílica-Parroquia La Milagrosaubicada en la Calle de García de Paredes\, 45\, 28010 Madrid\, con la participación de jóvenes musulmanes\, cristianos y judíos. \nAforo limitado. Para participar es imprescindible rellenar este formulario. \n  \n \nDesarrollo de la actividad:\n17:00     Concierto Debut del JOVEN ENSEMBLE INTERRELIGIOSO ESPAÑOL (JOIRE)\n18:15  9º Scriptural Reasoning con el tema “Liderazgo”\, bienvenida y explicaciones\, reparto del texto a estudiar y explicación de la dinámica de la actividad\n18:25        Lectura de texto de la tradición judía y su comentario\n18:45        Lectura de texto de la tradición cristiana y su comentario\n19:05        Lectura de texto de la tradición musulmana y su comentario\n19:25        Resumen y aportaciones adicionales\n19:30        Fin de la actividad \n \nProyecto CommUnity\nEsta actividad se engloba dentro del proyecto CommUnity co-financiado por la Comisión Europea en el cual participan 11 instituciones pública y privadas de 7 países comunitarios. El proyecto CommUnity tiene como objetivo abordar factores de impulso como la marginación\, la desigualdad\, la discriminación y la negación de derechos y crear nuevas oportunidades para promover la paz y los valores compartidos a través de la expresión artística y cultural. Al dar voz a los jóvenes que se sienten marginados o tratados injustamente\, podemos construir comunidades poderosas con un mayor sentido de pertenencia\, bienestar y autoestima. \nCampaña Youth Creative CommUnity\nYouth Creative CommUnity trata de involucrar a los jóvenes a través de lentes artísticas y creativas. Para este fin\, a través de distintos Youth Creative Clubs\, pequeños grupos artísticos serán establecidos\, y se desarrollarán actividades artísticas y culturales. Los Youth Creative Clubs serán guiados por artistas y jóvenes trabajadores. Para poder preservar la dinámica de grupo y el “sentimiento de seguridad y confianza”\, las actividades serán de un máximo de 30 personas. Las personas jóvenes\, que busquen empoderar su identidad\, serán motivadas a encontrar varias formas creativas de expresarse. Mediante expresiones culturales y artísticas\, como la música\, la pintura\, talleres de artes visuales\, los jóvenes pueden desarrollar un sentimiento más fuerte de pertenencia. Además\, a los jóvenes se les propondrá la creación de algo relacionado con el tema “Pacíficamente Juntos”\, que ellos presentarán en el “Youth Creative Festival-Peaceful Together” (este festival internacional promueve la paz a través de las expresiones artísticas). Saber que hay una posibilidad de participar en un festival internacional servirá de motivación adicional para motivar a los jóvenes y que tomen parte en las actividades artísticas. \nCampaña Harmony CommUnity\nEl objetivo principal de esta campaña es mejorar el diálogo intergeneracional\, intercultural e interreligioso mediante la creación de grupos de música que se reunirán para tocar juntos y compartir la pasión por la música sin fronteras de cultura\, religión o edad.\nLos objetivos de esta actividad son los siguientes:\n– Mejorar el diálogo intergeneracional\, intercultural e interreligioso;\n– Construir comunidades de personas que comparten su pasión por la música;\n– Mejorar la cohesión social y la inclusión a través de actividades musicales;\n– Fomentar la diversidad y la convivencia pacífica y armónica entre generaciones\, culturas y religiones;\n– Mejorar el sentimiento de pertenencia y disminuir el sentimiento de marginación de las personas que vienen de diferentes orígenes\, incluidas las comunidades desfavorecidas;\n– Guiar a las personas hacia una expresión pacífica de su identidad y creencias. \n \n 
URL:http://arcoforum.es/event/concierto-debut-de-joire-scriptural-reasoning-liderazgo
CATEGORIES:Conciertos,Scriptural Reasoning
END:VEVENT
END:VCALENDAR